BEGIN:VCALENDAR
PRODID:-//github.com/rianjs/ical.net//NONSGML ical.net 4.0//EN
VERSION:2.0
BEGIN:VEVENT
DESCRIPTION:2008 Annual Meeting by the American Academy of Neurology\n\nTi
 tle: The Interface of Sleep and Neurologic Disorders\n\nAccess URL: https
 ://www.aan.com/msa/Public/Events/GetEventURL/1217\n\nLearn More About Thi
 s Event: https://www.aan.com/msa/Public/Events/Details/1217
DTEND:20080414T213000
DTSTAMP:20260424T054135Z
DTSTART:20080414T183000
LOCATION:https://www.aan.com/msa/Public/Events/GetEventURL/1217
SEQUENCE:0
SUMMARY:AAN: The Interface of Sleep and Neurologic Disorders
UID:ed62c14c-f562-4446-a1b3-b3c8abf74b5b
END:VEVENT
END:VCALENDAR
