BEGIN:VCALENDAR
PRODID:-//github.com/rianjs/ical.net//NONSGML ical.net 4.0//EN
VERSION:2.0
BEGIN:VEVENT
DESCRIPTION:2008 Annual Meeting by the American Academy of Neurology\n\nTi
 tle: Intraoperative Neurophysiologic Monitoring: Spinal Cord and Nerve Ro
 ot Monitoring\n\nAccess URL: https://www.aan.com/msa/Public/Events/GetEve
 ntURL/1220\n\nLearn More About This Event: https://www.aan.com/msa/Public
 /Events/Details/1220
DTEND:20080414T213000
DTSTAMP:20260424T054101Z
DTSTART:20080414T183000
LOCATION:https://www.aan.com/msa/Public/Events/GetEventURL/1220
SEQUENCE:0
SUMMARY:AAN: Intraoperative Neurophysiologic Monitoring: Spinal Cord and N
 erve Root Monitoring
UID:6618a0dd-6297-4434-a875-5b95e41d31e4
END:VEVENT
END:VCALENDAR
