BEGIN:VCALENDAR
PRODID:-//github.com/rianjs/ical.net//NONSGML ical.net 4.0//EN
VERSION:2.0
BEGIN:VEVENT
DESCRIPTION:2008 Annual Meeting by the American Academy of Neurology\n\nTi
 tle: Clinical Pearls in Bedside Neurology\n\nAccess URL: https://www.aan.
 com/msa/Public/Events/GetEventURL/1224\n\nLearn More About This Event: ht
 tps://www.aan.com/msa/Public/Events/Details/1224
DTEND:20080414T223000
DTSTAMP:20260424T054139Z
DTSTART:20080414T193000
LOCATION:https://www.aan.com/msa/Public/Events/GetEventURL/1224
SEQUENCE:0
SUMMARY:AAN: Clinical Pearls in Bedside Neurology
UID:e429ede0-413d-4378-acaa-f3d0d5a6695c
END:VEVENT
END:VCALENDAR
