BEGIN:VCALENDAR
PRODID:-//github.com/rianjs/ical.net//NONSGML ical.net 4.0//EN
VERSION:2.0
BEGIN:VEVENT
DESCRIPTION:2008 Annual Meeting by the American Academy of Neurology\n\nTi
 tle: Brain Computer Interfaces: Frontiers in Neurology and Neuroscience\n
 \nAccess URL: https://www.aan.com/msa/Public/Events/GetEventURL/1225\n\nL
 earn More About This Event: https://www.aan.com/msa/Public/Events/Details
 /1225
DTEND:20080414T223000
DTSTAMP:20260424T054134Z
DTSTART:20080414T193000
LOCATION:https://www.aan.com/msa/Public/Events/GetEventURL/1225
SEQUENCE:0
SUMMARY:AAN: Brain Computer Interfaces: Frontiers in Neurology and Neurosc
 ience
UID:111ac74a-aaa9-425e-bfbb-88840bb7a9f1
END:VEVENT
END:VCALENDAR
