BEGIN:VCALENDAR
PRODID:-//github.com/rianjs/ical.net//NONSGML ical.net 4.0//EN
VERSION:2.0
BEGIN:VEVENT
DESCRIPTION:2008 Annual Meeting by the American Academy of Neurology\n\nTi
 tle: Developing Neuroprotective Therapies\n\nAccess URL: https://www.aan.
 com/msa/Public/Events/GetEventURL/1226\n\nLearn More About This Event: ht
 tps://www.aan.com/msa/Public/Events/Details/1226
DTEND:20080414T223000
DTSTAMP:20260424T054211Z
DTSTART:20080414T193000
LOCATION:https://www.aan.com/msa/Public/Events/GetEventURL/1226
SEQUENCE:0
SUMMARY:AAN: Developing Neuroprotective Therapies
UID:160ebf00-2250-42e3-9d9b-0457c871441d
END:VEVENT
END:VCALENDAR
