BEGIN:VCALENDAR
PRODID:-//github.com/rianjs/ical.net//NONSGML ical.net 4.0//EN
VERSION:2.0
BEGIN:VEVENT
DESCRIPTION:2008 Annual Meeting by the American Academy of Neurology\n\nTi
 tle: Heavy Metals and Neurology\n\nAccess URL: https://www.aan.com/msa/Pu
 blic/Events/GetEventURL/1227\n\nLearn More About This Event: https://www.
 aan.com/msa/Public/Events/Details/1227
DTEND:20080414T223000
DTSTAMP:20260424T054137Z
DTSTART:20080414T193000
LOCATION:https://www.aan.com/msa/Public/Events/GetEventURL/1227
SEQUENCE:0
SUMMARY:AAN: Heavy Metals and Neurology
UID:1d4b0b79-ec68-40f5-9a6a-ca489561dd3c
END:VEVENT
END:VCALENDAR
