BEGIN:VCALENDAR
PRODID:-//github.com/rianjs/ical.net//NONSGML ical.net 4.0//EN
VERSION:2.0
BEGIN:VEVENT
DESCRIPTION:2008 Annual Meeting by the American Academy of Neurology\n\nTi
 tle: How to Test the Autonomic Nervous System\n\nAccess URL: https://www.
 aan.com/msa/Public/Events/GetEventURL/1231\n\nLearn More About This Event
 : https://www.aan.com/msa/Public/Events/Details/1231
DTEND:20080414T223000
DTSTAMP:20260424T054035Z
DTSTART:20080414T193000
LOCATION:https://www.aan.com/msa/Public/Events/GetEventURL/1231
SEQUENCE:0
SUMMARY:AAN: How to Test the Autonomic Nervous System
UID:768de7f5-4fcc-4a6d-8d13-609c93a4155f
END:VEVENT
END:VCALENDAR
