BEGIN:VCALENDAR
PRODID:-//github.com/rianjs/ical.net//NONSGML ical.net 4.0//EN
VERSION:2.0
BEGIN:VEVENT
DESCRIPTION:2008 Annual Meeting by the American Academy of Neurology\n\nTi
 tle: Clinical Grant Writing\n\nAccess URL: https://www.aan.com/msa/Public
 /Events/GetEventURL/1242\n\nLearn More About This Event: https://www.aan.
 com/msa/Public/Events/Details/1242
DTEND:20080416T083000
DTSTAMP:20260424T054034Z
DTSTART:20080416T064500
LOCATION:https://www.aan.com/msa/Public/Events/GetEventURL/1242
SEQUENCE:0
SUMMARY:AAN: Clinical Grant Writing
UID:b26263b7-b348-42b5-a100-883f04e5a5ce
END:VEVENT
END:VCALENDAR
