BEGIN:VCALENDAR
PRODID:-//github.com/rianjs/ical.net//NONSGML ical.net 4.0//EN
VERSION:2.0
BEGIN:VEVENT
DESCRIPTION:2008 Annual Meeting by the American Academy of Neurology\n\nTi
 tle: How to Be Sure Your Patient Education Is Educating Patients\n\nAcces
 s URL: https://www.aan.com/msa/Public/Events/GetEventURL/1246\n\nLearn Mo
 re About This Event: https://www.aan.com/msa/Public/Events/Details/1246
DTEND:20080416T133000
DTSTAMP:20260424T054104Z
DTSTART:20080416T120000
LOCATION:https://www.aan.com/msa/Public/Events/GetEventURL/1246
SEQUENCE:0
SUMMARY:AAN: How to Be Sure Your Patient Education Is Educating Patients
UID:1b8549eb-b81a-4cae-8d24-0f32876fd22c
END:VEVENT
END:VCALENDAR
