BEGIN:VCALENDAR
PRODID:-//github.com/rianjs/ical.net//NONSGML ical.net 4.0//EN
VERSION:2.0
BEGIN:VEVENT
DESCRIPTION:2008 Annual Meeting by the American Academy of Neurology\n\nTi
 tle: Case Studies in Dementia\n\nAccess URL: https://www.aan.com/msa/Publ
 ic/Events/GetEventURL/1254\n\nLearn More About This Event: https://www.aa
 n.com/msa/Public/Events/Details/1254
DTEND:20080416T220000
DTSTAMP:20260424T054138Z
DTSTART:20080416T190000
LOCATION:https://www.aan.com/msa/Public/Events/GetEventURL/1254
SEQUENCE:0
SUMMARY:AAN: Case Studies in Dementia
UID:3769383f-cbbb-4754-842f-90dcef1ca13d
END:VEVENT
END:VCALENDAR
