BEGIN:VCALENDAR
PRODID:-//github.com/rianjs/ical.net//NONSGML ical.net 4.0//EN
VERSION:2.0
BEGIN:VEVENT
DESCRIPTION:2008 Annual Meeting by the American Academy of Neurology\n\nTi
 tle: Neonatal Seizures: An Update\n\nAccess URL: https://www.aan.com/msa/
 Public/Events/GetEventURL/1256\n\nLearn More About This Event: https://ww
 w.aan.com/msa/Public/Events/Details/1256
DTEND:20080417T083000
DTSTAMP:20260424T053903Z
DTSTART:20080417T064500
LOCATION:https://www.aan.com/msa/Public/Events/GetEventURL/1256
SEQUENCE:0
SUMMARY:AAN: Neonatal Seizures: An Update
UID:c31c8e5f-0905-425d-ac67-ad051043e0e0
END:VEVENT
END:VCALENDAR
