BEGIN:VCALENDAR
PRODID:-//github.com/rianjs/ical.net//NONSGML ical.net 4.0//EN
VERSION:2.0
BEGIN:VEVENT
DESCRIPTION:2008 Annual Meeting by the American Academy of Neurology\n\nTi
 tle: Case Studies: Clinical Ethics\, Professionalism\, and Evidence-Based
  Care of Patients with Severe Life-Limiting Neurologic Disease\n\nAccess 
 URL: https://www.aan.com/msa/Public/Events/GetEventURL/1257\n\nLearn More
  About This Event: https://www.aan.com/msa/Public/Events/Details/1257
DTEND:20080417T083000
DTSTAMP:20260424T054136Z
DTSTART:20080417T064500
LOCATION:https://www.aan.com/msa/Public/Events/GetEventURL/1257
SEQUENCE:0
SUMMARY:AAN: Case Studies: Clinical Ethics\, Professionalism\, and Evidenc
 e-Based Care of Patients with Severe Life-Limiting Neurologic Disease
UID:cbf5c741-6ea8-481b-8aac-5eabee01038c
END:VEVENT
END:VCALENDAR
