BEGIN:VCALENDAR
PRODID:-//github.com/rianjs/ical.net//NONSGML ical.net 4.0//EN
VERSION:2.0
BEGIN:VEVENT
DESCRIPTION:2008 Annual Meeting by the American Academy of Neurology\n\nTi
 tle: Neuro-otology\n\nAccess URL: https://www.aan.com/msa/Public/Events/G
 etEventURL/1261\n\nLearn More About This Event: https://www.aan.com/msa/P
 ublic/Events/Details/1261
DTEND:20080416T180000
DTSTAMP:20260424T054106Z
DTSTART:20080416T141500
LOCATION:https://www.aan.com/msa/Public/Events/GetEventURL/1261
SEQUENCE:0
SUMMARY:AAN: Neuro-otology
UID:3a43f00e-c397-4836-82cf-543bd851a29f
END:VEVENT
END:VCALENDAR
