BEGIN:VCALENDAR
PRODID:-//github.com/rianjs/ical.net//NONSGML ical.net 4.0//EN
VERSION:2.0
BEGIN:VEVENT
DESCRIPTION:2008 Annual Meeting by the American Academy of Neurology\n\nTi
 tle: Neurologic Disorders of Women's Issues\n\nAccess URL: https://www.aa
 n.com/msa/Public/Events/GetEventURL/1262\n\nLearn More About This Event: 
 https://www.aan.com/msa/Public/Events/Details/1262
DTEND:20090430T180000
DTSTAMP:20260424T054139Z
DTSTART:20090430T141500
LOCATION:https://www.aan.com/msa/Public/Events/GetEventURL/1262
SEQUENCE:0
SUMMARY:AAN: Neurologic Disorders of Women's Issues
UID:7d650adb-fccf-4f4e-b0a0-ebd48b261851
END:VEVENT
END:VCALENDAR
