BEGIN:VCALENDAR
PRODID:-//github.com/rianjs/ical.net//NONSGML ical.net 4.0//EN
VERSION:2.0
BEGIN:VEVENT
DESCRIPTION:2008 Annual Meeting by the American Academy of Neurology\n\nTi
 tle: Now You See It\, Now You Know It: Pathognomonic Neuro-ophthalmology\
 n\nAccess URL: https://www.aan.com/msa/Public/Events/GetEventURL/1266\n\n
 Learn More About This Event: https://www.aan.com/msa/Public/Events/Detail
 s/1266
DTEND:20080417T220000
DTSTAMP:20260424T054137Z
DTSTART:20080417T190000
LOCATION:https://www.aan.com/msa/Public/Events/GetEventURL/1266
SEQUENCE:0
SUMMARY:AAN: Now You See It\, Now You Know It: Pathognomonic Neuro-ophthal
 mology
UID:565bce44-e98e-454f-8903-46cc9248066d
END:VEVENT
END:VCALENDAR
