BEGIN:VCALENDAR
PRODID:-//github.com/rianjs/ical.net//NONSGML ical.net 4.0//EN
VERSION:2.0
BEGIN:VEVENT
DESCRIPTION:2008 Annual Meeting by the American Academy of Neurology\n\nTi
 tle: Epilepsy Therapy\n\nAccess URL: https://www.aan.com/msa/Public/Event
 s/GetEventURL/1271\n\nLearn More About This Event: https://www.aan.com/ms
 a/Public/Events/Details/1271
DTEND:20080417T210000
DTSTAMP:20260424T054101Z
DTSTART:20080417T190000
LOCATION:https://www.aan.com/msa/Public/Events/GetEventURL/1271
SEQUENCE:0
SUMMARY:AAN: Epilepsy Therapy
UID:b5b69e39-09c0-4c6c-a295-4a5e90ebbcac
END:VEVENT
END:VCALENDAR
