BEGIN:VCALENDAR
PRODID:-//github.com/rianjs/ical.net//NONSGML ical.net 4.0//EN
VERSION:2.0
BEGIN:VEVENT
DESCRIPTION:2008 Annual Meeting by the American Academy of Neurology\n\nTi
 tle: Cognitive Rehabilitation of Brain Disorders\n\nAccess URL: https://w
 ww.aan.com/msa/Public/Events/GetEventURL/1281\n\nLearn More About This Ev
 ent: https://www.aan.com/msa/Public/Events/Details/1281
DTEND:20080419T124500
DTSTAMP:20260424T054137Z
DTSTART:20080419T090000
LOCATION:https://www.aan.com/msa/Public/Events/GetEventURL/1281
SEQUENCE:0
SUMMARY:AAN: Cognitive Rehabilitation of Brain Disorders
UID:e5134677-9b81-46b0-b059-12d2fc6e9a9a
END:VEVENT
END:VCALENDAR
