BEGIN:VCALENDAR
PRODID:-//github.com/rianjs/ical.net//NONSGML ical.net 4.0//EN
VERSION:2.0
BEGIN:VEVENT
DESCRIPTION:2008 Annual Meeting by the American Academy of Neurology\n\nTi
 tle: Clinical EEG\n\nAccess URL: https://www.aan.com/msa/Public/Events/Ge
 tEventURL/1288\n\nLearn More About This Event: https://www.aan.com/msa/Pu
 blic/Events/Details/1288
DTEND:20080418T170000
DTSTAMP:20260424T054211Z
DTSTART:20080418T090000
LOCATION:https://www.aan.com/msa/Public/Events/GetEventURL/1288
SEQUENCE:0
SUMMARY:AAN: Clinical EEG
UID:dc322061-43e3-42ed-b6d3-99e97894db0a
END:VEVENT
END:VCALENDAR
