BEGIN:VCALENDAR
PRODID:-//github.com/rianjs/ical.net//NONSGML ical.net 4.0//EN
VERSION:2.0
BEGIN:VEVENT
DESCRIPTION:2008 Annual Meeting by the American Academy of Neurology\n\nTi
 tle: Headaches in Adults\n\nAccess URL: https://www.aan.com/msa/Public/Ev
 ents/GetEventURL/1290\n\nLearn More About This Event: https://www.aan.com
 /msa/Public/Events/Details/1290
DTEND:20080418T170000
DTSTAMP:20260424T053955Z
DTSTART:20080418T090000
LOCATION:https://www.aan.com/msa/Public/Events/GetEventURL/1290
SEQUENCE:0
SUMMARY:AAN: Headaches in Adults
UID:20cbef01-83ea-47d4-880f-47f71d3871a2
END:VEVENT
END:VCALENDAR
