BEGIN:VCALENDAR
PRODID:-//github.com/rianjs/ical.net//NONSGML ical.net 4.0//EN
VERSION:2.0
BEGIN:VEVENT
DESCRIPTION:2008 Annual Meeting by the American Academy of Neurology\n\nTi
 tle: EEG in Children and Adolescents: Common Pitfalls\, Classic Syndromes
 \, and Identification of Surgical Candidates\n\nAccess URL: https://www.a
 an.com/msa/Public/Events/GetEventURL/1302\n\nLearn More About This Event:
  https://www.aan.com/msa/Public/Events/Details/1302
DTEND:20080419T083000
DTSTAMP:20260424T053954Z
DTSTART:20080419T064500
LOCATION:https://www.aan.com/msa/Public/Events/GetEventURL/1302
SEQUENCE:0
SUMMARY:AAN: EEG in Children and Adolescents: Common Pitfalls\, Classic Sy
 ndromes\, and Identification of Surgical Candidates
UID:fd849884-ae61-4deb-9674-076159e16619
END:VEVENT
END:VCALENDAR
