BEGIN:VCALENDAR
PRODID:-//github.com/rianjs/ical.net//NONSGML ical.net 4.0//EN
VERSION:2.0
BEGIN:VEVENT
DESCRIPTION:2008 Annual Meeting by the American Academy of Neurology\n\nTi
 tle: Autoimmune Antibody Testing in Neuropathy: Indications for the Pract
 icing Neurologist\n\nAccess URL: https://www.aan.com/msa/Public/Events/Ge
 tEventURL/1306\n\nLearn More About This Event: https://www.aan.com/msa/Pu
 blic/Events/Details/1306
DTEND:20080419T083000
DTSTAMP:20260424T053952Z
DTSTART:20080419T064500
LOCATION:https://www.aan.com/msa/Public/Events/GetEventURL/1306
SEQUENCE:0
SUMMARY:AAN: Autoimmune Antibody Testing in Neuropathy: Indications for th
 e Practicing Neurologist
UID:62b8d3ef-da71-4005-b4d1-bc9267b73e5e
END:VEVENT
END:VCALENDAR
