BEGIN:VCALENDAR
PRODID:-//github.com/rianjs/ical.net//NONSGML ical.net 4.0//EN
VERSION:2.0
BEGIN:VEVENT
DESCRIPTION:2008 Annual Meeting by the American Academy of Neurology\n\nTi
 tle: Neuropathic Pain: Diagnostic Strategies and Treatment Controversies\
 n\nAccess URL: https://www.aan.com/msa/Public/Events/GetEventURL/1308\n\n
 Learn More About This Event: https://www.aan.com/msa/Public/Events/Detail
 s/1308
DTEND:20080419T083000
DTSTAMP:20260424T054138Z
DTSTART:20080419T064500
LOCATION:https://www.aan.com/msa/Public/Events/GetEventURL/1308
SEQUENCE:0
SUMMARY:AAN: Neuropathic Pain: Diagnostic Strategies and Treatment Controv
 ersies
UID:03bfe43a-3428-4b22-ba5e-5ae8529bd461
END:VEVENT
END:VCALENDAR
