BEGIN:VCALENDAR
PRODID:-//github.com/rianjs/ical.net//NONSGML ical.net 4.0//EN
VERSION:2.0
BEGIN:VEVENT
DESCRIPTION:2008 Annual Meeting by the American Academy of Neurology\n\nTi
 tle: Update on Endovascular Treatment of Cerebrovascular Diseases\n\nAcce
 ss URL: https://www.aan.com/msa/Public/Events/GetEventURL/1311\n\nLearn M
 ore About This Event: https://www.aan.com/msa/Public/Events/Details/1311
DTEND:20080419T124500
DTSTAMP:20260424T054103Z
DTSTART:20080419T090000
LOCATION:https://www.aan.com/msa/Public/Events/GetEventURL/1311
SEQUENCE:0
SUMMARY:AAN: Update on Endovascular Treatment of Cerebrovascular Diseases
UID:1d8583d6-5b69-49f7-83ae-9eeb0a78537c
END:VEVENT
END:VCALENDAR
