BEGIN:VCALENDAR
PRODID:-//github.com/rianjs/ical.net//NONSGML ical.net 4.0//EN
VERSION:2.0
BEGIN:VEVENT
DESCRIPTION:2008 Annual Meeting by the American Academy of Neurology\n\nTi
 tle: Diagnosis and Management of Movement Disorders in Children\n\nAccess
  URL: https://www.aan.com/msa/Public/Events/GetEventURL/1314\n\nLearn Mor
 e About This Event: https://www.aan.com/msa/Public/Events/Details/1314
DTEND:20080419T124500
DTSTAMP:20260424T054035Z
DTSTART:20080419T090000
LOCATION:https://www.aan.com/msa/Public/Events/GetEventURL/1314
SEQUENCE:0
SUMMARY:AAN: Diagnosis and Management of Movement Disorders in Children
UID:69278780-6325-41a9-8c4f-f751e0094e3b
END:VEVENT
END:VCALENDAR
