BEGIN:VCALENDAR
PRODID:-//github.com/rianjs/ical.net//NONSGML ical.net 4.0//EN
VERSION:2.0
BEGIN:VEVENT
DESCRIPTION:2008 Annual Meeting by the American Academy of Neurology\n\nTi
 tle: Debates in Headache\n\nAccess URL: https://www.aan.com/msa/Public/Ev
 ents/GetEventURL/1315\n\nLearn More About This Event: https://www.aan.com
 /msa/Public/Events/Details/1315
DTEND:20090502T124500
DTSTAMP:20260424T054212Z
DTSTART:20090502T090000
LOCATION:https://www.aan.com/msa/Public/Events/GetEventURL/1315
SEQUENCE:0
SUMMARY:AAN: Debates in Headache
UID:554911a5-ca51-4985-b38b-02323263c5fb
END:VEVENT
END:VCALENDAR
