BEGIN:VCALENDAR
PRODID:-//github.com/rianjs/ical.net//NONSGML ical.net 4.0//EN
VERSION:2.0
BEGIN:VEVENT
DESCRIPTION:2020 Annual Meeting by the American Academy of Neurology\n\nTi
 tle: AveXis Medical Training\n\nDescription: We are planning an internal 
 training event for global colleagues who are travelling to Toronto for AA
 N.\n\nLearn More About This Event: https://www.aan.com/msa/Public/Events/
 Details/13239
DTEND;VALUE=DATE:20200425
DTSTAMP:20260420T142014Z
DTSTART;VALUE=DATE:20200424
LOCATION:https://www.aan.com/msa/Public/Events/GetEventURL/13239
SEQUENCE:0
SUMMARY:AAN: AveXis Medical Training
UID:527eedf0-8420-4dbc-a6d1-8f03cfa15b28
END:VEVENT
END:VCALENDAR
