BEGIN:VCALENDAR
PRODID:-//github.com/rianjs/ical.net//NONSGML ical.net 4.0//EN
VERSION:2.0
BEGIN:VEVENT
DESCRIPTION:2008 Annual Meeting by the American Academy of Neurology\n\nTi
 tle: Stroke/Critical Care Scientific Topic Highlights\n\nAccess URL: http
 s://www.aan.com/msa/Public/Events/GetEventURL/1331\n\nLearn More About Th
 is Event: https://www.aan.com/msa/Public/Events/Details/1331
DTEND:20080417T190000
DTSTAMP:20260424T054038Z
DTSTART:20080417T180000
LOCATION:https://www.aan.com/msa/Public/Events/GetEventURL/1331
SEQUENCE:0
SUMMARY:AAN: Stroke/Critical Care Scientific Topic Highlights
UID:795c2451-0338-4036-9dc1-8b509b044e82
END:VEVENT
END:VCALENDAR
