BEGIN:VCALENDAR
PRODID:-//github.com/rianjs/ical.net//NONSGML ical.net 4.0//EN
VERSION:2.0
BEGIN:VTIMEZONE
TZID:Central Standard Time
X-LIC-LOCATION:America/Chicago
BEGIN:STANDARD
DTSTART:20241103T020000
RRULE:FREQ=YEARLY;BYDAY=1SU;BYMONTH=11
TZNAME:CST
TZOFFSETFROM:-0500
TZOFFSETTO:-0600
END:STANDARD
BEGIN:DAYLIGHT
DTSTART:20250309T020000
RRULE:FREQ=YEARLY;BYDAY=2SU;BYMONTH=3
TZNAME:CDT
TZOFFSETFROM:-0600
TZOFFSETTO:-0500
END:DAYLIGHT
END:VTIMEZONE
BEGIN:VEVENT
DESCRIPTION:AAN Advanced Practice Provider Neurology Education Series 2020
  by the American Academy of Neurology\n\nTitle: Localizing the Lesion: Ne
 uroanatomy Basics + Live Q&A \n\nAccess URL: https://www.aan.com/msa/Publ
 ic/Events/GetEventURL/13335\n\nLearn More About This Event: https://www.a
 an.com/msa/Public/Events/Details/13335
DTEND;TZID=Central Standard Time:20200813T130000
DTSTAMP:20260424T054141Z
DTSTART;TZID=Central Standard Time:20200813T120000
LOCATION:https://www.aan.com/msa/Public/Events/GetEventURL/13335
SEQUENCE:0
SUMMARY:AAN: Localizing the Lesion: Neuroanatomy Basics + Live Q&A
UID:fd6366cb-8ec7-426c-9799-1b2c1fceb9de
END:VEVENT
END:VCALENDAR
