BEGIN:VCALENDAR
PRODID:-//github.com/rianjs/ical.net//NONSGML ical.net 4.0//EN
VERSION:2.0
BEGIN:VTIMEZONE
TZID:Central Standard Time
X-LIC-LOCATION:America/Chicago
BEGIN:STANDARD
DTSTART:20241103T020000
RRULE:FREQ=YEARLY;BYDAY=1SU;BYMONTH=11
TZNAME:CST
TZOFFSETFROM:-0500
TZOFFSETTO:-0600
END:STANDARD
BEGIN:DAYLIGHT
DTSTART:20250309T020000
RRULE:FREQ=YEARLY;BYDAY=2SU;BYMONTH=3
TZNAME:CDT
TZOFFSETFROM:-0600
TZOFFSETTO:-0500
END:DAYLIGHT
END:VTIMEZONE
BEGIN:VEVENT
DESCRIPTION:AAN Advanced Practice Provider Neurology Education Series 2020
  by the American Academy of Neurology\n\nTitle: Localizing the Lesion: Ap
 plied Neuroanatomy + Live Q&A \n\nAccess URL: https://www.aan.com/msa/Pub
 lic/Events/GetEventURL/13336\n\nLearn More About This Event: https://www.
 aan.com/msa/Public/Events/Details/13336
DTEND;TZID=Central Standard Time:20200820T130000
DTSTAMP:20260424T054059Z
DTSTART;TZID=Central Standard Time:20200820T120000
LOCATION:https://www.aan.com/msa/Public/Events/GetEventURL/13336
SEQUENCE:0
SUMMARY:AAN: Localizing the Lesion: Applied Neuroanatomy + Live Q&A
UID:d9d1f9a6-0c6c-4fe7-8a1b-b7cd151ef406
END:VEVENT
END:VCALENDAR
