BEGIN:VCALENDAR
PRODID:-//github.com/rianjs/ical.net//NONSGML ical.net 4.0//EN
VERSION:2.0
BEGIN:VTIMEZONE
TZID:Central Standard Time
X-LIC-LOCATION:America/Chicago
BEGIN:STANDARD
DTSTART:20241103T020000
RRULE:FREQ=YEARLY;BYDAY=1SU;BYMONTH=11
TZNAME:CST
TZOFFSETFROM:-0500
TZOFFSETTO:-0600
END:STANDARD
BEGIN:DAYLIGHT
DTSTART:20250309T020000
RRULE:FREQ=YEARLY;BYDAY=2SU;BYMONTH=3
TZNAME:CDT
TZOFFSETFROM:-0600
TZOFFSETTO:-0500
END:DAYLIGHT
END:VTIMEZONE
BEGIN:VEVENT
DESCRIPTION:AAN Advanced Practice Provider Neurology Education Series 2020
  by the American Academy of Neurology\n\nTitle: Headache + Live Q&A \n\nA
 ccess URL: https://www.aan.com/msa/Public/Events/GetEventURL/13340\n\nLea
 rn More About This Event: https://www.aan.com/msa/Public/Events/Details/1
 3340
DTEND;TZID=Central Standard Time:20200917T130000
DTSTAMP:20260424T054209Z
DTSTART;TZID=Central Standard Time:20200917T120000
LOCATION:https://www.aan.com/msa/Public/Events/GetEventURL/13340
SEQUENCE:0
SUMMARY:AAN: Headache + Live Q&A
UID:8068cecd-720e-4e7a-ad59-d174929de80e
END:VEVENT
END:VCALENDAR
