BEGIN:VCALENDAR
PRODID:-//github.com/rianjs/ical.net//NONSGML ical.net 4.0//EN
VERSION:2.0
BEGIN:VTIMEZONE
TZID:Central Standard Time
X-LIC-LOCATION:America/Chicago
BEGIN:STANDARD
DTSTART:20241103T020000
RRULE:FREQ=YEARLY;BYDAY=1SU;BYMONTH=11
TZNAME:CST
TZOFFSETFROM:-0500
TZOFFSETTO:-0600
END:STANDARD
BEGIN:DAYLIGHT
DTSTART:20250309T020000
RRULE:FREQ=YEARLY;BYDAY=2SU;BYMONTH=3
TZNAME:CDT
TZOFFSETFROM:-0600
TZOFFSETTO:-0500
END:DAYLIGHT
END:VTIMEZONE
BEGIN:VEVENT
DESCRIPTION:AAN Advanced Practice Provider Neurology Education Series 2020
  by the American Academy of Neurology\n\nTitle: Alternative Roles for APP
 's Panel Discussion\n\nAccess URL: https://www.aan.com/msa/Public/Events/
 GetEventURL/13344\n\nLearn More About This Event: https://www.aan.com/msa
 /Public/Events/Details/13344
DTEND;TZID=Central Standard Time:20201015T130000
DTSTAMP:20260424T054208Z
DTSTART;TZID=Central Standard Time:20201015T120000
LOCATION:https://www.aan.com/msa/Public/Events/GetEventURL/13344
SEQUENCE:0
SUMMARY:AAN: Alternative Roles for APP's Panel Discussion
UID:28737205-1e20-4b97-b0dc-1b3aa9629a28
END:VEVENT
END:VCALENDAR
