BEGIN:VCALENDAR
PRODID:-//github.com/rianjs/ical.net//NONSGML ical.net 4.0//EN
VERSION:2.0
BEGIN:VEVENT
DESCRIPTION:2008 Annual Meeting by the American Academy of Neurology\n\nTi
 tle: Poster Session 02\n\nAccess URL: https://www.aan.com/msa/Public/Even
 ts/GetEventURL/1336\n\nLearn More About This Event: https://www.aan.com/m
 sa/Public/Events/Details/1336
DTEND:20080415T143000
DTSTAMP:20260424T053959Z
DTSTART:20080415T113000
LOCATION:https://www.aan.com/msa/Public/Events/GetEventURL/1336
SEQUENCE:0
SUMMARY:AAN: Poster Session 02
UID:41870449-c5d4-4666-82ef-3f1c7673b83c
END:VEVENT
END:VCALENDAR
