BEGIN:VCALENDAR
PRODID:-//github.com/rianjs/ical.net//NONSGML ical.net 4.0//EN
VERSION:2.0
BEGIN:VEVENT
DESCRIPTION:2008 Annual Meeting by the American Academy of Neurology\n\nTi
 tle: Poster Session 04\n\nAccess URL: https://www.aan.com/msa/Public/Even
 ts/GetEventURL/1338\n\nLearn More About This Event: https://www.aan.com/m
 sa/Public/Events/Details/1338
DTEND:20080416T100000
DTSTAMP:20260424T054035Z
DTSTART:20080416T070000
LOCATION:https://www.aan.com/msa/Public/Events/GetEventURL/1338
SEQUENCE:0
SUMMARY:AAN: Poster Session 04
UID:67bbc7c0-ecdf-438e-99b3-5371675334d5
END:VEVENT
END:VCALENDAR
