BEGIN:VCALENDAR
PRODID:-//github.com/rianjs/ical.net//NONSGML ical.net 4.0//EN
VERSION:2.0
BEGIN:VEVENT
DESCRIPTION:2008 Annual Meeting by the American Academy of Neurology\n\nTi
 tle: Poster Session 05\n\nAccess URL: https://www.aan.com/msa/Public/Even
 ts/GetEventURL/1339\n\nLearn More About This Event: https://www.aan.com/m
 sa/Public/Events/Details/1339
DTEND:20080416T190000
DTSTAMP:20260424T054034Z
DTSTART:20080416T160000
LOCATION:https://www.aan.com/msa/Public/Events/GetEventURL/1339
SEQUENCE:0
SUMMARY:AAN: Poster Session 05
UID:ac736a68-5515-4e1a-872a-d3bb5bffae0f
END:VEVENT
END:VCALENDAR
