BEGIN:VCALENDAR
PRODID:-//github.com/rianjs/ical.net//NONSGML ical.net 4.0//EN
VERSION:2.0
BEGIN:VEVENT
DESCRIPTION:2008 Annual Meeting by the American Academy of Neurology\n\nTi
 tle: Poster Session 06\n\nAccess URL: https://www.aan.com/msa/Public/Even
 ts/GetEventURL/1340\n\nLearn More About This Event: https://www.aan.com/m
 sa/Public/Events/Details/1340
DTEND:20080417T100000
DTSTAMP:20260424T054101Z
DTSTART:20080417T070000
LOCATION:https://www.aan.com/msa/Public/Events/GetEventURL/1340
SEQUENCE:0
SUMMARY:AAN: Poster Session 06
UID:519efd58-539b-4364-8bf4-0deb344812b6
END:VEVENT
END:VCALENDAR
