BEGIN:VCALENDAR
PRODID:-//github.com/rianjs/ical.net//NONSGML ical.net 4.0//EN
VERSION:2.0
BEGIN:VEVENT
DESCRIPTION:2008 Annual Meeting by the American Academy of Neurology\n\nTi
 tle: Poster Session 08\n\nAccess URL: https://www.aan.com/msa/Public/Even
 ts/GetEventURL/1341\n\nLearn More About This Event: https://www.aan.com/m
 sa/Public/Events/Details/1341
DTEND:20080417T190000
DTSTAMP:20260424T054038Z
DTSTART:20080417T160000
LOCATION:https://www.aan.com/msa/Public/Events/GetEventURL/1341
SEQUENCE:0
SUMMARY:AAN: Poster Session 08
UID:15dbd04e-4da7-4467-9a90-177047aad99e
END:VEVENT
END:VCALENDAR
