BEGIN:VCALENDAR
PRODID:-//github.com/rianjs/ical.net//NONSGML ical.net 4.0//EN
VERSION:2.0
BEGIN:VEVENT
DESCRIPTION:2008 Annual Meeting by the American Academy of Neurology\n\nTi
 tle: Poster Session 07\n\nAccess URL: https://www.aan.com/msa/Public/Even
 ts/GetEventURL/1342\n\nLearn More About This Event: https://www.aan.com/m
 sa/Public/Events/Details/1342
DTEND:20080417T143000
DTSTAMP:20260424T054036Z
DTSTART:20080417T113000
LOCATION:https://www.aan.com/msa/Public/Events/GetEventURL/1342
SEQUENCE:0
SUMMARY:AAN: Poster Session 07
UID:fce3555d-f198-4ffc-b1b0-a32c4042b82d
END:VEVENT
END:VCALENDAR
