BEGIN:VCALENDAR
PRODID:-//github.com/rianjs/ical.net//NONSGML ical.net 4.0//EN
VERSION:2.0
BEGIN:VEVENT
DESCRIPTION:2008 Annual Meeting by the American Academy of Neurology\n\nTi
 tle: Parkinson's Disease: Genetics and Epidemiology\n\nAccess URL: https:
 //www.aan.com/msa/Public/Events/GetEventURL/1345\n\nLearn More About This
  Event: https://www.aan.com/msa/Public/Events/Details/1345
DTEND:20080415T153000
DTSTAMP:20260424T081330Z
DTSTART:20080415T140000
LOCATION:https://www.aan.com/msa/Public/Events/GetEventURL/1345
SEQUENCE:0
SUMMARY:AAN: Parkinson's Disease: Genetics and Epidemiology
UID:78ea1f7d-fcb5-4247-828e-4ed5af7bc4a2
END:VEVENT
END:VCALENDAR
