BEGIN:VCALENDAR
PRODID:-//github.com/rianjs/ical.net//NONSGML ical.net 4.0//EN
VERSION:2.0
BEGIN:VEVENT
DESCRIPTION:2008 Annual Meeting by the American Academy of Neurology\n\nTi
 tle: Multiple Sclerosis: Clinical Trials II\n\nAccess URL: https://www.aa
 n.com/msa/Public/Events/GetEventURL/1354\n\nLearn More About This Event: 
 https://www.aan.com/msa/Public/Events/Details/1354
DTEND:20080415T170000
DTSTAMP:20260424T054134Z
DTSTART:20080415T154500
LOCATION:https://www.aan.com/msa/Public/Events/GetEventURL/1354
SEQUENCE:0
SUMMARY:AAN: Multiple Sclerosis: Clinical Trials II
UID:1632e272-61f8-4f67-b50d-9b0a536fd42d
END:VEVENT
END:VCALENDAR
