BEGIN:VCALENDAR
PRODID:-//github.com/rianjs/ical.net//NONSGML ical.net 4.0//EN
VERSION:2.0
BEGIN:VEVENT
DESCRIPTION:2008 Annual Meeting by the American Academy of Neurology\n\nTi
 tle: Neuro-Ophthalmology/Neuro-Otology\n\nAccess URL: https://www.aan.com
 /msa/Public/Events/GetEventURL/1361\n\nLearn More About This Event: https
 ://www.aan.com/msa/Public/Events/Details/1361
DTEND:20080415T170000
DTSTAMP:20260424T054105Z
DTSTART:20080415T154500
LOCATION:https://www.aan.com/msa/Public/Events/GetEventURL/1361
SEQUENCE:0
SUMMARY:AAN: Neuro-Ophthalmology/Neuro-Otology
UID:fe7a4cd7-2d8f-46c4-a93f-2ee036ab8dd6
END:VEVENT
END:VCALENDAR
