BEGIN:VCALENDAR
PRODID:-//github.com/rianjs/ical.net//NONSGML ical.net 4.0//EN
VERSION:2.0
BEGIN:VEVENT
DESCRIPTION:2008 Annual Meeting by the American Academy of Neurology\n\nTi
 tle: Epilepsy: Basic Science and Imaging\n\nAccess URL: https://www.aan.c
 om/msa/Public/Events/GetEventURL/1362\n\nLearn More About This Event: htt
 ps://www.aan.com/msa/Public/Events/Details/1362
DTEND:20080415T170000
DTSTAMP:20260424T054212Z
DTSTART:20080415T154500
LOCATION:https://www.aan.com/msa/Public/Events/GetEventURL/1362
SEQUENCE:0
SUMMARY:AAN: Epilepsy: Basic Science and Imaging
UID:1a336073-10ff-4e41-bd71-367a5837ed00
END:VEVENT
END:VCALENDAR
