BEGIN:VCALENDAR
PRODID:-//github.com/rianjs/ical.net//NONSGML ical.net 4.0//EN
VERSION:2.0
BEGIN:VEVENT
DESCRIPTION:2008 Annual Meeting by the American Academy of Neurology\n\nTi
 tle: Anterior Horn: Clinical Research\n\nAccess URL: https://www.aan.com/
 msa/Public/Events/GetEventURL/1371\n\nLearn More About This Event: https:
 //www.aan.com/msa/Public/Events/Details/1371
DTEND:20080416T153000
DTSTAMP:20260424T054037Z
DTSTART:20080416T140000
LOCATION:https://www.aan.com/msa/Public/Events/GetEventURL/1371
SEQUENCE:0
SUMMARY:AAN: Anterior Horn: Clinical Research
UID:d178f9df-da44-4169-b715-ff4a3e5e2788
END:VEVENT
END:VCALENDAR
