BEGIN:VCALENDAR
PRODID:-//github.com/rianjs/ical.net//NONSGML ical.net 4.0//EN
VERSION:2.0
BEGIN:VEVENT
DESCRIPTION:2008 Annual Meeting by the American Academy of Neurology\n\nTi
 tle: Peripheral Nerve: Diabetic Neuropathy\n\nAccess URL: https://www.aan
 .com/msa/Public/Events/GetEventURL/1381\n\nLearn More About This Event: h
 ttps://www.aan.com/msa/Public/Events/Details/1381
DTEND:20080416T170000
DTSTAMP:20260424T053958Z
DTSTART:20080416T154500
LOCATION:https://www.aan.com/msa/Public/Events/GetEventURL/1381
SEQUENCE:0
SUMMARY:AAN: Peripheral Nerve: Diabetic Neuropathy
UID:93e5b572-baad-4113-a2cd-501917e62f7a
END:VEVENT
END:VCALENDAR
