BEGIN:VCALENDAR
PRODID:-//github.com/rianjs/ical.net//NONSGML ical.net 4.0//EN
VERSION:2.0
BEGIN:VEVENT
DESCRIPTION:2008 Annual Meeting by the American Academy of Neurology\n\nTi
 tle: Migraine: Functional Imaging\, Cardiovascular Risk\, and Epidemiolog
 y\n\nAccess URL: https://www.aan.com/msa/Public/Events/GetEventURL/1388\n
 \nLearn More About This Event: https://www.aan.com/msa/Public/Events/Deta
 ils/1388
DTEND:20080417T153000
DTSTAMP:20260424T054135Z
DTSTART:20080417T133000
LOCATION:https://www.aan.com/msa/Public/Events/GetEventURL/1388
SEQUENCE:0
SUMMARY:AAN: Migraine: Functional Imaging\, Cardiovascular Risk\, and Epid
 emiology
UID:158376e4-f574-4a9d-af2a-ccf01e983846
END:VEVENT
END:VCALENDAR
