BEGIN:VCALENDAR
PRODID:-//github.com/rianjs/ical.net//NONSGML ical.net 4.0//EN
VERSION:2.0
BEGIN:VEVENT
DESCRIPTION:2008 Annual Meeting by the American Academy of Neurology\n\nTi
 tle: Multiple Sclerosis: Imaging II\n\nAccess URL: https://www.aan.com/ms
 a/Public/Events/GetEventURL/1402\n\nLearn More About This Event: https://
 www.aan.com/msa/Public/Events/Details/1402
DTEND:20080417T170000
DTSTAMP:20260424T054102Z
DTSTART:20080417T154500
LOCATION:https://www.aan.com/msa/Public/Events/GetEventURL/1402
SEQUENCE:0
SUMMARY:AAN: Multiple Sclerosis: Imaging II
UID:f41dd5ec-a12c-4fc1-bfc8-79106ee1f0a4
END:VEVENT
END:VCALENDAR
