BEGIN:VCALENDAR
PRODID:-//github.com/rianjs/ical.net//NONSGML ical.net 4.0//EN
VERSION:2.0
BEGIN:VTIMEZONE
TZID:Eastern Standard Time
X-LIC-LOCATION:America/New_York
BEGIN:STANDARD
DTSTART:20241103T020000
RRULE:FREQ=YEARLY;BYDAY=1SU;BYMONTH=11
TZNAME:EST
TZOFFSETFROM:-0400
TZOFFSETTO:-0500
END:STANDARD
BEGIN:DAYLIGHT
DTSTART:20250309T020000
RRULE:FREQ=YEARLY;BYDAY=2SU;BYMONTH=3
TZNAME:EDT
TZOFFSETFROM:-0500
TZOFFSETTO:-0400
END:DAYLIGHT
END:VTIMEZONE
BEGIN:VEVENT
DESCRIPTION:2021 Fall Conference by the American Academy of Neurology\n\nT
 itle: The Time (Code) is Now: Time Based Coding and Other Important Updat
 es\n\nAccess URL: https://www.aan.com/msa/Public/Events/GetEventURL/14050
 \n\nLearn More About This Event: https://www.aan.com/msa/Public/Events/De
 tails/14050
DTEND;TZID=Eastern Standard Time:20211105T113000
DTSTAMP:20260424T054209Z
DTSTART;TZID=Eastern Standard Time:20211105T100000
LOCATION:https://www.aan.com/msa/Public/Events/GetEventURL/14050
SEQUENCE:0
SUMMARY:AAN: The Time (Code) is Now: Time Based Coding and Other Important
  Updates
UID:58493cc5-8073-4c1e-a69b-45fe9be9bae2
END:VEVENT
END:VCALENDAR
