BEGIN:VCALENDAR
PRODID:-//github.com/rianjs/ical.net//NONSGML ical.net 4.0//EN
VERSION:2.0
BEGIN:VTIMEZONE
TZID:Eastern Standard Time
X-LIC-LOCATION:America/New_York
BEGIN:STANDARD
DTSTART:20241103T020000
RRULE:FREQ=YEARLY;BYDAY=1SU;BYMONTH=11
TZNAME:EST
TZOFFSETFROM:-0400
TZOFFSETTO:-0500
END:STANDARD
BEGIN:DAYLIGHT
DTSTART:20250309T020000
RRULE:FREQ=YEARLY;BYDAY=2SU;BYMONTH=3
TZNAME:EDT
TZOFFSETFROM:-0500
TZOFFSETTO:-0400
END:DAYLIGHT
END:VTIMEZONE
BEGIN:VEVENT
DESCRIPTION:2021 Fall Conference by the American Academy of Neurology\n\nT
 itle: Neuroanatomy for Practicing Clinicians\n\nAccess URL: https://www.a
 an.com/msa/Public/Events/GetEventURL/14054\n\nLearn More About This Event
 : https://www.aan.com/msa/Public/Events/Details/14054
DTEND;TZID=Eastern Standard Time:20211106T113500
DTSTAMP:20260424T054220Z
DTSTART;TZID=Eastern Standard Time:20211106T100000
LOCATION:https://www.aan.com/msa/Public/Events/GetEventURL/14054
SEQUENCE:0
SUMMARY:AAN: Neuroanatomy for Practicing Clinicians
UID:0e0bd51c-455f-4a6d-aea2-4821ec39f0f3
END:VEVENT
END:VCALENDAR
