BEGIN:VCALENDAR
PRODID:-//github.com/rianjs/ical.net//NONSGML ical.net 4.0//EN
VERSION:2.0
BEGIN:VEVENT
DESCRIPTION:2008 Annual Meeting by the American Academy of Neurology\n\nTi
 tle: Genetics of Epilepsy\n\nAccess URL: https://www.aan.com/msa/Public/E
 vents/GetEventURL/1406\n\nLearn More About This Event: https://www.aan.co
 m/msa/Public/Events/Details/1406
DTEND:20080416T180000
DTSTAMP:20260424T054105Z
DTSTART:20080416T140000
LOCATION:https://www.aan.com/msa/Public/Events/GetEventURL/1406
SEQUENCE:0
SUMMARY:AAN: Genetics of Epilepsy
UID:d21c01ac-1aa3-4183-8465-34befb0e506a
END:VEVENT
END:VCALENDAR
