BEGIN:VCALENDAR
PRODID:-//github.com/rianjs/ical.net//NONSGML ical.net 4.0//EN
VERSION:2.0
BEGIN:VTIMEZONE
TZID:Eastern Standard Time
X-LIC-LOCATION:America/New_York
BEGIN:STANDARD
DTSTART:20241103T020000
RRULE:FREQ=YEARLY;BYDAY=1SU;BYMONTH=11
TZNAME:EST
TZOFFSETFROM:-0400
TZOFFSETTO:-0500
END:STANDARD
BEGIN:DAYLIGHT
DTSTART:20250309T020000
RRULE:FREQ=YEARLY;BYDAY=2SU;BYMONTH=3
TZNAME:EDT
TZOFFSETFROM:-0500
TZOFFSETTO:-0400
END:DAYLIGHT
END:VTIMEZONE
BEGIN:VEVENT
DESCRIPTION:2021 Fall Conference by the American Academy of Neurology\n\nT
 itle: Neurology Update 3: Epilepsy and Neuro-ophthalmology\n\nAccess URL:
  https://www.aan.com/msa/Public/Events/GetEventURL/14064\n\nLearn More Ab
 out This Event: https://www.aan.com/msa/Public/Events/Details/14064
DTEND;TZID=Eastern Standard Time:20211105T190000
DTSTAMP:20260424T054141Z
DTSTART;TZID=Eastern Standard Time:20211105T173000
LOCATION:https://www.aan.com/msa/Public/Events/GetEventURL/14064
SEQUENCE:0
SUMMARY:AAN: Neurology Update 3: Epilepsy and Neuro-ophthalmology
UID:775c5b6e-8eac-4cc0-a3dd-f9ab29f3a356
END:VEVENT
END:VCALENDAR
