BEGIN:VCALENDAR
PRODID:-//github.com/rianjs/ical.net//NONSGML ical.net 4.0//EN
VERSION:2.0
BEGIN:VTIMEZONE
TZID:Eastern Standard Time
X-LIC-LOCATION:America/New_York
BEGIN:STANDARD
DTSTART:20241103T020000
RRULE:FREQ=YEARLY;BYDAY=1SU;BYMONTH=11
TZNAME:EST
TZOFFSETFROM:-0400
TZOFFSETTO:-0500
END:STANDARD
BEGIN:DAYLIGHT
DTSTART:20250309T020000
RRULE:FREQ=YEARLY;BYDAY=2SU;BYMONTH=3
TZNAME:EDT
TZOFFSETFROM:-0500
TZOFFSETTO:-0400
END:DAYLIGHT
END:VTIMEZONE
BEGIN:VEVENT
DESCRIPTION:2021 Fall Conference by the American Academy of Neurology\n\nT
 itle: Continuum 2: Neuro-otology and Sleep\n\nAccess URL: https://www.aan
 .com/msa/Public/Events/GetEventURL/14072\n\nLearn More About This Event: 
 https://www.aan.com/msa/Public/Events/Details/14072
DTEND;TZID=Eastern Standard Time:20211107T113000
DTSTAMP:20260424T054139Z
DTSTART;TZID=Eastern Standard Time:20211107T100000
LOCATION:https://www.aan.com/msa/Public/Events/GetEventURL/14072
SEQUENCE:0
SUMMARY:AAN: Continuum 2: Neuro-otology and Sleep
UID:a15a9183-8892-4472-b1a8-1d35bbcefe4c
END:VEVENT
END:VCALENDAR
